BEGIN:VCALENDAR
VERSION:2.0
PRODID:-//U.S. Hunger - ECPv6.15.17.1//NONSGML v1.0//EN
CALSCALE:GREGORIAN
METHOD:PUBLISH
X-ORIGINAL-URL:https://connect.ushunger.org
X-WR-CALDESC:Events for U.S. Hunger
REFRESH-INTERVAL;VALUE=DURATION:PT1H
X-Robots-Tag:noindex
X-PUBLISHED-TTL:PT1H
BEGIN:VTIMEZONE
TZID:America/New_York
BEGIN:DAYLIGHT
TZOFFSETFROM:-0500
TZOFFSETTO:-0400
TZNAME:EDT
DTSTART:20210314T070000
END:DAYLIGHT
BEGIN:STANDARD
TZOFFSETFROM:-0400
TZOFFSETTO:-0500
TZNAME:EST
DTSTART:20211107T060000
END:STANDARD
BEGIN:DAYLIGHT
TZOFFSETFROM:-0500
TZOFFSETTO:-0400
TZNAME:EDT
DTSTART:20220313T070000
END:DAYLIGHT
BEGIN:STANDARD
TZOFFSETFROM:-0400
TZOFFSETTO:-0500
TZNAME:EST
DTSTART:20221106T060000
END:STANDARD
BEGIN:DAYLIGHT
TZOFFSETFROM:-0500
TZOFFSETTO:-0400
TZNAME:EDT
DTSTART:20230312T070000
END:DAYLIGHT
BEGIN:STANDARD
TZOFFSETFROM:-0400
TZOFFSETTO:-0500
TZNAME:EST
DTSTART:20231105T060000
END:STANDARD
END:VTIMEZONE
BEGIN:VEVENT
DTSTART;TZID=America/New_York:20221105T120000
DTEND;TZID=America/New_York:20221105T130000
DTSTAMP:20260419T194657
CREATED:20221017T174245Z
LAST-MODIFIED:20221017T174245Z
UID:20247-1667649600-1667653200@connect.ushunger.org
SUMMARY:11/05 Community Hunger Project
DESCRIPTION:Millions of Americans struggling with food insecurity need your help! Are you willing to make an impact and provide hope for hungry children and families?\nSign up today to volunteer with us to package thousands of delicious meals that will be sent to those who need it most. Join us in the fight against hunger at this fun volunteer opportunity! \nThere is 1 shift time available.\nShift 1: 12:00pm – 1:00pm \nRegister
URL:https://connect.ushunger.org/event/11-05-community-hunger-project/
LOCATION:U.S. Hunger – Longwood\, 830 South Ronald Reagan Blvd\, Longwood\, FL\, 32750\, United States
CATEGORIES:Hunger Project
ATTACH;FMTTYPE=image/png:https://connect.ushunger.org/wp-content/uploads/2021/10/Social-Canvas-3.png
ORGANIZER;CN="U.S. Hunger":MAILTO:hello@ushunger.org
END:VEVENT
END:VCALENDAR