BEGIN:VCALENDAR
VERSION:2.0
PRODID:-//U.S. Hunger - ECPv6.15.17.1//NONSGML v1.0//EN
CALSCALE:GREGORIAN
METHOD:PUBLISH
X-WR-CALNAME:U.S. Hunger
X-ORIGINAL-URL:https://connect.ushunger.org
X-WR-CALDESC:Events for U.S. Hunger
REFRESH-INTERVAL;VALUE=DURATION:PT1H
X-Robots-Tag:noindex
X-PUBLISHED-TTL:PT1H
BEGIN:VTIMEZONE
TZID:America/New_York
BEGIN:DAYLIGHT
TZOFFSETFROM:-0500
TZOFFSETTO:-0400
TZNAME:EDT
DTSTART:20220313T070000
END:DAYLIGHT
BEGIN:STANDARD
TZOFFSETFROM:-0400
TZOFFSETTO:-0500
TZNAME:EST
DTSTART:20221106T060000
END:STANDARD
BEGIN:DAYLIGHT
TZOFFSETFROM:-0500
TZOFFSETTO:-0400
TZNAME:EDT
DTSTART:20230312T070000
END:DAYLIGHT
BEGIN:STANDARD
TZOFFSETFROM:-0400
TZOFFSETTO:-0500
TZNAME:EST
DTSTART:20231105T060000
END:STANDARD
BEGIN:DAYLIGHT
TZOFFSETFROM:-0500
TZOFFSETTO:-0400
TZNAME:EDT
DTSTART:20240310T070000
END:DAYLIGHT
BEGIN:STANDARD
TZOFFSETFROM:-0400
TZOFFSETTO:-0500
TZNAME:EST
DTSTART:20241103T060000
END:STANDARD
END:VTIMEZONE
BEGIN:VEVENT
DTSTART;TZID=America/New_York:20230121T090000
DTEND;TZID=America/New_York:20230121T123000
DTSTAMP:20260419T150509
CREATED:20221219T164403Z
LAST-MODIFIED:20221219T164647Z
UID:20831-1674291600-1674304200@connect.ushunger.org
SUMMARY:01/21 Community Hunger Project
DESCRIPTION:Millions of Americans struggling with food insecurity need your help! Are you willing to make an impact and provide hope for hungry children and families? \nSign up today to volunteer with us to package thousands of delicious meals that will be sent to those who need it most. Join us in the fight against hunger at this fun volunteer opportunity! \n  \n \nShift Times \nShift 1: 9:00am – 10:30am \nShift 2: 11:00am – 12:30pm \n \nRegister
URL:https://connect.ushunger.org/event/01-21-community-hunger-project/
LOCATION:U.S. Hunger – Longwood\, 830 South Ronald Reagan Blvd\, Longwood\, FL\, 32750\, United States
CATEGORIES:Hunger Project
ATTACH;FMTTYPE=image/png:https://connect.ushunger.org/wp-content/uploads/2021/10/Social-Canvas-3.png
ORGANIZER;CN="U.S. Hunger":MAILTO:hello@ushunger.org
END:VEVENT
END:VCALENDAR