BEGIN:VCALENDAR
VERSION:2.0
PRODID:-//U.S. Hunger - ECPv6.15.17.1//NONSGML v1.0//EN
CALSCALE:GREGORIAN
METHOD:PUBLISH
X-WR-CALNAME:U.S. Hunger
X-ORIGINAL-URL:https://connect.ushunger.org
X-WR-CALDESC:Events for U.S. Hunger
REFRESH-INTERVAL;VALUE=DURATION:PT1H
X-Robots-Tag:noindex
X-PUBLISHED-TTL:PT1H
BEGIN:VTIMEZONE
TZID:America/New_York
BEGIN:DAYLIGHT
TZOFFSETFROM:-0500
TZOFFSETTO:-0400
TZNAME:EDT
DTSTART:20220313T070000
END:DAYLIGHT
BEGIN:STANDARD
TZOFFSETFROM:-0400
TZOFFSETTO:-0500
TZNAME:EST
DTSTART:20221106T060000
END:STANDARD
BEGIN:DAYLIGHT
TZOFFSETFROM:-0500
TZOFFSETTO:-0400
TZNAME:EDT
DTSTART:20230312T070000
END:DAYLIGHT
BEGIN:STANDARD
TZOFFSETFROM:-0400
TZOFFSETTO:-0500
TZNAME:EST
DTSTART:20231105T060000
END:STANDARD
BEGIN:DAYLIGHT
TZOFFSETFROM:-0500
TZOFFSETTO:-0400
TZNAME:EDT
DTSTART:20240310T070000
END:DAYLIGHT
BEGIN:STANDARD
TZOFFSETFROM:-0400
TZOFFSETTO:-0500
TZNAME:EST
DTSTART:20241103T060000
END:STANDARD
END:VTIMEZONE
BEGIN:VEVENT
DTSTART;TZID=America/New_York:20230205T160000
DTEND;TZID=America/New_York:20230205T180000
DTSTAMP:20260419T141828
CREATED:20221108T143125Z
LAST-MODIFIED:20230131T221501Z
UID:20480-1675612800-1675620000@connect.ushunger.org
SUMMARY:8th Annual Windermere Community Hunger Project
DESCRIPTION:UPDATE: THIS EVENT IS CURRENTLY SOLD OUT \nAre you willing to make an impact and provide hope for hungry children and families in Ukraine?  \nSign up today to volunteer with us to package thousands of delicious meals that will be sent to those who need it most. Join us in the fight against hunger at this fun volunteer opportunity! \nThere is 1 volunteer shift available for this event:\nSOLD OUT: 4:00 PM – 6:00 PM \nWe ask that you also join us in raising the funds needed to sponsor the food that will be packed at our Hunger Project and donated to those who need it most. Each meal costs $0.27 so every donation makes a difference! \nREGISTRATION: SOLD OUT       Donate
URL:https://connect.ushunger.org/event/8th-annual-windermere-community-hp/
LOCATION:U.S. Hunger – Longwood\, 830 South Ronald Reagan Blvd\, Longwood\, FL\, 32750\, United States
CATEGORIES:Hunger Project
ATTACH;FMTTYPE=image/png:https://connect.ushunger.org/wp-content/uploads/2022/11/Social-Canvas-12.png
END:VEVENT
BEGIN:VEVENT
DTSTART;TZID=America/New_York:20230218T090000
DTEND;TZID=America/New_York:20230218T130000
DTSTAMP:20260419T141828
CREATED:20230203T194255Z
LAST-MODIFIED:20230203T194255Z
UID:21187-1676710800-1676725200@connect.ushunger.org
SUMMARY:2/18 Full Cart Box Build
DESCRIPTION:Millions of Americans struggling with food insecurity need your help! Are you willing to make an impact and provide hope for hungry children and families? \nThis unique opportunity will allow volunteers to assist our fulfillment team in preparing boxes of food to be shipped to families in need through our Full Cart program. \nPlease Note: There is no age requirement for this event\, but younger Hunger Heroes will be asked to work closely alongside their parent or guardian! \nJoin us in the fight against hunger at this fun volunteer opportunity by registering for one of the shifts below! \nShift 1: 9:00 am – 10:00 am\nS﻿hift 2: 10:30 am – 11:30 am\nS﻿hift 3: 12:00 pm – 1:00 pm \nRegister
URL:https://connect.ushunger.org/event/2-18-full-cart-box-build/
LOCATION:U.S. Hunger – Longwood\, 830 South Ronald Reagan Blvd\, Longwood\, FL\, 32750\, United States
ATTACH;FMTTYPE=image/png:https://connect.ushunger.org/wp-content/uploads/2022/03/Social-Canvas-10.png
ORGANIZER;CN="U.S. Hunger":MAILTO:hello@ushunger.org
END:VEVENT
END:VCALENDAR